BEGIN:VCALENDAR
VERSION:2.0
PRODID:-//Associazione RETE - ECPv6.11.2//NONSGML v1.0//EN
CALSCALE:GREGORIAN
METHOD:PUBLISH
X-WR-CALNAME:Associazione RETE
X-ORIGINAL-URL:https://retedigital.org
X-WR-CALDESC:Eventos para Associazione RETE
REFRESH-INTERVAL;VALUE=DURATION:PT1H
X-Robots-Tag:noindex
X-PUBLISHED-TTL:PT1H
BEGIN:VTIMEZONE
TZID:Europe/Rome
BEGIN:DAYLIGHT
TZOFFSETFROM:+0100
TZOFFSETTO:+0200
TZNAME:CEST
DTSTART:20190331T010000
END:DAYLIGHT
BEGIN:STANDARD
TZOFFSETFROM:+0200
TZOFFSETTO:+0100
TZNAME:CET
DTSTART:20191027T010000
END:STANDARD
BEGIN:DAYLIGHT
TZOFFSETFROM:+0100
TZOFFSETTO:+0200
TZNAME:CEST
DTSTART:20200329T010000
END:DAYLIGHT
BEGIN:STANDARD
TZOFFSETFROM:+0200
TZOFFSETTO:+0100
TZNAME:CET
DTSTART:20201025T010000
END:STANDARD
END:VTIMEZONE
BEGIN:VEVENT
DTSTART;TZID=Europe/Rome:20200601T160000
DTEND;TZID=Europe/Rome:20200601T173000
DTSTAMP:20260419T221758
CREATED:20211103T104839Z
LAST-MODIFIED:20211122T104148Z
UID:4394-1591027200-1591032600@retedigital.org
SUMMARY:Tercero seminario web del ciclo: Escenarios de ciudades portuarias durante y después de Covid-19
DESCRIPTION:La pandemia de Covid-19 está golpeando duramente a la gente y a los negocios. El intento de proteger la vida de las personas de esta enfermedad potencialmente mortal ha cambiado el funcionamiento de los puertos y ciudades de todo el mundo. \nEn una época de Nuevas Conciencias respecto al futuro por venir al webinar RETE LATAM y Centro América ha de abordar temáticas que permitan trascender la complejidad del presente\, afin de encontrarnos con ejemplos de prácticas que han permitido localizar en un territorio continental tan lleno de desafíos\, permanentes caminos de superación ante la dificultad. \nTemas tratados: \nANTARTIDE SUR/puertos e infraestructuras en naturaleza y climas excepcionales\, exploraciones\, movimientos y aislamientos\, habitantes\, científicos y balleneros\, escenarios de hostilidades y adaptaciones. \nCANAL DE PANAMA’/ transformaciones disruptivas\, vínculos y circuitos marítimos  intercontinentales\, las dínamicas de la economía y su impacto en el desarrollo regional \nEL FRENTE MARÍTIMO DEL OCÉANO PACÍFICO/tsunamis oceánicos\, cambios y reacciones en geografías vulnerables\, puertos\, producción y sociedad \nCUENCA DEL PLATA E HIDROVIA/ la gran red fluvial del centro sur de América\, espacios de integración continental\, infraestructuras mutantes en historias y políticas inestables \nTERRITORIOS DE GRAN ESCALA Y LA CIUDAD PORTUATIA DE SANTOS/ centralidades portuarias e industriales\, influencias políticas y socialesante sistemas productivos alterados\, visión estratégica de anticipación.
URL:https://retedigital.org/event/tercero-seminario-web-del-ciclo-escenarios-de-ciudades-portuarias-durante-y-despues-de-covid-19/
LOCATION:GARR WebMeetings – Aula Gold
CATEGORIES:Eventos
ATTACH;FMTTYPE=image/jpeg:https://retedigital.org/wp-content/uploads/2021/11/92947719_1325572494298952_1333081312361185280_n.jpg
END:VEVENT
BEGIN:VEVENT
DTSTART;TZID=Europe/Rome:20200518T160000
DTEND;TZID=Europe/Rome:20200518T173000
DTSTAMP:20260419T221758
CREATED:20211103T161535Z
LAST-MODIFIED:20211122T104148Z
UID:4441-1589817600-1589823000@retedigital.org
SUMMARY:Segundo seminario web del ciclo: Escenarios de ciudades portuarias durante y después de Covid-19
DESCRIPTION:La pandemia de Covid-19 está afectando duramente a las personas y a las empresas. El intento de proteger la vida de las personas de esta enfermedad potencialmente mortal ha cambiado el funcionamiento de los puertos y las ciudades de todo el mundo. A medida que la gente ha ido cambiando sus pautas de consumo\, viajes y estilo de vida\, las fotos de satélite muestran que la contaminación ambiental de muchas ciudades (incluidas destacadas ciudades portuarias industriales) se está limpiando. Un progreso que se necesita urgentemente. \nEsta sesión explora historias de «qué pasaría si»\, reflexionando sobre el futuro de las ciudades portuarias\, y la forma en que la crisis actual puede traducirse en una estrategia de transición en la que los puertos aporten valor a sus ciudades anfitrionas\, así como al interior. \nEl Comité Científico de RETE\, junto con el grupo de investigación Leiden-Delft-Erasmus Port City Future\, y los delegados internacionales invitan a los espectadores a reflexionar sobre: \n\n¿Es la pandemia actual diferente de las anteriores? ¿Qué es lo que la convertiría en un gran cambio de juego?\n¿Cuáles son las soluciones prácticas (tal vez ya en ciernes) que pueden proporcionar una mejor relación entre las necesidades urbanas y portuarias?\n¿Qué pueden hacer las autoridades portuarias para comprometerse con su ciudad región vecina?\n¿Qué necesitan las ciudades y regiones de sus puertos para que las ciudades sean más justas desde el punto de vista medioambiental y social?\n¿Cómo puede la pandemia cambiar los patrones de vivienda y estilo de vida y qué significa esto para la planificación?\n\n¿Qué nuevas pautas de movilidad pueden surgir?
URL:https://retedigital.org/event/segundo-seminario-web-del-ciclo-escenarios-de-ciudades-portuarias-durante-y-despues-de-covid-19/
LOCATION:GARR WebMeetings – Aula Gold
CATEGORIES:Eventos
ATTACH;FMTTYPE=image/jpeg:https://retedigital.org/wp-content/uploads/2021/11/Segundo-seminario-web-del-ciclo-Escenarios-de-ciudades-portuarias-durante-y-despues-de-Covid-19.jpg
END:VEVENT
BEGIN:VEVENT
DTSTART;TZID=Europe/Rome:20200504T160000
DTEND;TZID=Europe/Rome:20200504T173000
DTSTAMP:20260419T221758
CREATED:20211103T103655Z
LAST-MODIFIED:20211122T104148Z
UID:4387-1588608000-1588613400@retedigital.org
SUMMARY:Primer seminario web del ciclo: Escenarios puerto-ciudad durante y después de Covid-19
DESCRIPTION:El 4 de mayo de 2020\, a las 16.00 horas\, tendrá lugar el primer seminario web «Escenarios puerto-ciudad durante y después del Covid-19»\, parte del ciclo de seminarios organizados por RETE \nEl Comité Científico de RETE invita a reflexionar: \n\nlo que está ocurriendo en las ciudades portuarias del mundo debido a Covid-19;\ncuáles serán los efectos de Covid-19 y cuánto durarán;\nqué impacto está teniendo el cierre en el tráfico marítimo;\nqué papel pueden desempeñar las autoridades portuarias en la gestión de la emergencia;\ncómo están cambiando las relaciones entre el puerto y la ciudad y cómo van a cambiar;\ncómo está cambiando el paisaje urbano portuario y cómo cambiará;\ncómo la emergencia puede transformarse en oportunidad.\n\nEste primer encuentro se centrará en las ciudades portuarias de Livorno\, Nápoles y Barcelona y los ponentes serán Massimo Clemente (Director de Investigación del CNR IRISS y Director Científico de RETE)\, Pietro Spirito (Presidente de la Autoridad del Sistema Portuario del Mar Tirreno Central)\, Barbara Bonciani (Concejala de Puertos del Ayuntamiento de Livorno)\, Giuseppe Tarzia (Almirante de la Dirección Marítima de la Región Toscana y Comandante de la Autoridad Portuaria de Livorno)\, José Luis Estrada (Estrada Consulting\, ex Presidente de RETE). \nEl webinar\, con el asesoramiento científico de investigadores del Consejo Nacional de la Investigación de Italia – Istituto de Investigación para la Innovación y Servicios para el Desarollo Desarrollo\, del Departamento de Humanidades Federico II\,  Departamento de Arquitecura Federico II – Máster en Planificación y Diseño Sostenible de Áreas Portuarias\, forma parte de las actividades de la mesa operativa «Puerto-Comunidad» del «Nodo Avanzado de RETE» coordinado por el CNR IRISS.
URL:https://retedigital.org/event/primer-seminario-web-del-ciclo-escenarios-puerto-ciudad-durante-y-despues-de-covid-19/
LOCATION:GARR WebMeetings – Aula Gold
CATEGORIES:Eventos
ATTACH;FMTTYPE=image/jpeg:https://retedigital.org/wp-content/uploads/2021/11/RETE-webinars_1st-webinar_4thMay2020-.jpg
END:VEVENT
BEGIN:VEVENT
DTSTART;TZID=Europe/Rome:20191127T080000
DTEND;TZID=Europe/Rome:20191129T140000
DTSTAMP:20260419T221758
CREATED:20211102T153750Z
LAST-MODIFIED:20211122T104326Z
UID:4302-1574841600-1575036000@retedigital.org
SUMMARY:XXIV CUMBRE MERCOCIUDADES – ASUNCIÓN 2019: “Agua y Ciudades Sostenibles”
DESCRIPTION:Presidente RETE Rinio Bruttomesso y Vicepresidente de RETE Roberto Converti\, en ASUNCIÓN\, Paraguay \nXXIV CUMBRE MERCOCIUDADES – ASUNCIÓN 2019: “Agua y Ciudades Sostenibles” \nDel 27 al 29 de noviembre\, la 24ª Cumbre de Mercociudades\, principal eje “Agua y Ciudades Sostenibles” \nMiércoles 27 –\n8:30 a 1\nFORO Asunción S21: Ciudades y Agua\nApertura\nRinio Bruttomesso\, presidente de RETE (Venecia – Italia)\nRoberto Converti\, representante de RETE/LATAM -VP RETE.\nGonzalo Garay\, representante de la Municipalidad de Asunción.\n9:00a 9:15\nCafé.\n9:15 a 9:45\nConferencia Experto Internacional:\nLa Interacción de las Aguas urbanas y aguas rurales\nLos procesos de Urbanización\, Luis Castiella\, Consultor del PNUD\nProyecto Asunción Ciudad Verde de las Américas –\nVías a la Sustentatibilid\nad.\n9:45 a 10:15\nPlan ASU Viva: Un Proyecto de Ciudad para Asunción.\nGonzalo Garay\, coordinador Institucional Plan ASU Viva\, Municipalidad de Asunción.\n10:15 a 11:30\nMesa Temática Interinstitucional: Mecanismos de Gestión del Proyecto Franja Costera de\nAsunción.\nGobierno Nacional:\n– Gabinete Civil\, representante\n– Gabinete Social / Ministro Hugo Cáceres o Representante.\n– MOPC / Ministro Arnoldo Wiens o Representante.\n– MUVH / Ministro Dany Durand o Representante.\n– MADES / Ministro Ariel Oviedo o\nRepresentante\nMunicipalidad de Asunción:\n– Intendente / Mario Ferreiro.\n– Presidente de la Junta Municipal\nAgencias de Cooperación Internacional\n:\nBM.\nKoica\nConsejo de Desarrollo de Asunción.\nVíctor Raúl Benítez\nExperto Internacional.\nCiudad invi\ntada.\n11:30 a 12:45\nMesa Temática Interinstitucional: Mecanismos de Gestión de los Grandes Proyectos Urbanos Sostenibles\nAgencias de Cooperación Internacional:\n. BID: Plan ASU Viva / PFC Chacarita Alta / PFC Barrio Tacumbu\n. Banco Mundial: Proyecto A\nSU Participa / Actualización del PFC y Mecanismo de Gestión Interinstitucional del PFC\n. Koica: Proyecto Franja Costera de Asunción Bañado Sur\n. PNUD: Proyecto Asu Capital Verde\n. ONU Habitat: Proyecto Asu Resiliente\n. CAF: Censo / Proyecto Franja Cost\nera de Asunción\nGobierno Nacional:\n– Ministerio de Hacienda\nMunicipalidad de Asunción:\n. Intendente / Mario Ferreiro\n. Presidente de la Junta Municipal\nDENDE (Fundación Desarrollo en Democracia)\nExperto Internacional que participará del Seminario\nde Modelos de Financiación Sur/Sur.\nCiudad invitada.\n12:45 a 14:00\nReceso para almuerzo\n14:00 a 15:30\n6 Ciudades Costeras en Latinoamérica\nIntroducción: Roger Ríos / San José / Costa Rica\nPresentaciones:\nBUENOS AIRES / Argentina.\nMONTEVIDEO / Uru\nguay.\nSANTOS / Brasil.\nCONCEPCIÓN / Chile.\nGUAYAQUIL / Ecuador.\nCARTAGENA / Colombia\n15:30 a 16:00\nPresentación Experto Internacional / Organización Adherida 2\n16:00 a 16:15\nCafé\n16:15 a 16:45\nPresentación Experto Internacional / Organización Adherida 3\n16:45 a 18:00\n– Mesa Temática Interinstitucional: El Diseño de los Grandes Proyectos Urbanos Sostenibles\n. Gobierno Nacional\n. Municipalidad de Asunción\n. Asociación Paraguaya de Arquitectos (APAR)\n. Cámara Paraguaya de Emprendedores Inmobiliarios\n(CAPADEI)\n. Cámara Paraguaya de la Construcción (CAPACO)\n. Facultad de Arquitectura / FADA UNA\n. Facultad de Ciencias y Tecnología / FACYT UCA
URL:https://retedigital.org/event/xxiv-cumbre-mercociudades-asuncion-2019-agua-y-ciudades-sostenibles/
LOCATION:Hotel Granados – Gran Salón\, ASUNCIÓN\, Paraguay
CATEGORIES:Eventos
ATTACH;FMTTYPE=image/jpeg:https://retedigital.org/wp-content/uploads/2021/11/RETE-FORO-ASUNCION-27-NOV-2019-.jpg
END:VEVENT
BEGIN:VEVENT
DTSTART;VALUE=DATE:20191114
DTEND;VALUE=DATE:20191117
DTSTAMP:20260419T221758
CREATED:20211105T163853Z
LAST-MODIFIED:20211122T104326Z
UID:5061-1573689600-1573948799@retedigital.org
SUMMARY:32 Encuentro Internacional RETE\, Cádiz 14-16 noviembre de 2019
DESCRIPTION:La delegación del gobierno andaluz en Cádiz va a ser escenario del acto inaugural del 32º Encuentro RETE\, que se celebrará en la capital gaditana el 14\, 15 y 16 de noviembre\, reúnendo a expertos de todo el mundo en materia de integración puerto y ciudad. \nEl evento\, organizado en colaboración y bajo el patrocinio de la Autoridad Portuaria de la Bahía de Cádiz\, con el apoyo de Rohde Nielsen A/S\, pone a Cádiz en el foco mundial de los procesos integradores puerto-ciudad\, con especial atención a las experiencias en marcha en grandes ciudades portuarias del cono sur americano como Asunción (Paraguay)\, Montevideo (Uruguay)\, Veracruz (México). \nEl 14 de noviembre tendrán lugar los encuentros de la Junta de Gobierno y del Consejo General\, seguidos por la tarde por el seminario internacional “Grandes proyectos puerto-ciudad. Cádiz y las ciudades portuarias latinoamericanas”. El seminario es estructurado en 2 sesiones: la primera centrada en las Ciudades portuarias latinoamericanas; la segunda en la presentación de Cádiz y su Bahía. \nEntre otros intervinientes en el acto inaugural estará el presidente de Puertos del Estado\, Salvador de la Encina\, quien saludará a los asistentes antes de que se desarrolle la presentación del monográfico de la revista PORTUS dedicado a Cádiz. \nCortarán la cinta de este foro Rinio Brutomesso\, presidente de RETE; Teófila Martínez\, presidenta de la Autoridad Portuaria de la Bahía de Cádiz; Martín Vila\, teniente de alcalde del Ayuntamiento de Cádiz y Ana Mestre\, delegada del Gobierno andaluz en la provincia. \nEl 15 de noviembre se realizará  el Fórum de Cádiz\, “Los retos de las ciudades portuarias hacia 2030”. Se analizarán los retos y las estrategias para desarrollar y valorizar de forma sostenible las ciudades portuarias\, persiguiendo los objetivos de la Agenda 2030. El Forum será una oportunidad para celebrar el 20º aniversario de RETE\, haciendo balance de la contribución de la Asociación a la mejora de la relación puerto-ciudad en sus primeros veinte años de actividad\, y analizando los desafíos para el futuro. \nEl evento terminará el 16 de noviembre con visita guiada a la ciudad de Cádiz\, reservada a los Socios de RETE e invitados. \n DOWNLOAD PROGRAMA ENCUENTRO RETE 2019 – CADIZ \n  \n \ny con el Apoyo de ROHDE NIELSEN A/S \n \n  \n\n		\n\n		\n\n	\n		\n\n								\n						\n					\n						\n\n			\n\n\n	\n		\n\n								\n						\n					\n						\n\n			\n\n\n	\n		\n\n								\n						\n					\n						\n\n			\n\n\n	\n		\n\n								\n						\n					\n						\n\n			\n\n\n	\n		\n\n								\n						\n					\n						\n\n			\n\n\n	\n		\n\n								\n						\n					\n						\n\n			\n\n		\n\n	\n 
URL:https://retedigital.org/event/32-encuentro-internacional-rete-cadiz-14-16-noviembre-de-2019/
LOCATION:Cádiz\, España
CATEGORIES:Eventos
ATTACH;FMTTYPE=image/jpeg:https://retedigital.org/wp-content/uploads/2021/11/RETE_Vista-aerea-del-Puerto-de-Cadiz-ev.jpg
END:VEVENT
BEGIN:VEVENT
DTSTART;VALUE=DATE:20191114
DTEND;VALUE=DATE:20191117
DTSTAMP:20260419T221758
CREATED:20210623T151654Z
LAST-MODIFIED:20211122T104326Z
UID:2609-1573689600-1573948799@retedigital.org
SUMMARY:Encuentro de RETE Cádiz
DESCRIPTION:El próximo Encuentro de RETE con Consejo General tendrá lugar los días 14\, 15 y 16 de noviembre de 2019 en la ciudad portuaria española de Cádiz\, con Reuniones Y Seminario Internacional el día 14\, Forum el día 15 y visita técnica el día 16 de noviembre de 2019. \n– \n DOWNLOAD PROGRAMA ENCUENTRO RETE 2019 – CADIZ \n  \n\nEste evento se organiza en colaboración con la Autoridad Portuaria de la Bahía de Cádiz\, con su apoyo y patrocinio.
URL:https://retedigital.org/event/encuentro-de-rete-cadiz/
LOCATION:Cadiz\, Port\, Cádiz\, Spagna
CATEGORIES:Eventos
ATTACH;FMTTYPE=image/jpeg:https://retedigital.org/wp-content/uploads/2021/06/RETE_Vista-aerea-del-Puerto-de-Cadiz-ev.jpg
END:VEVENT
BEGIN:VEVENT
DTSTART;TZID=Europe/Rome:20190531T083000
DTEND;TZID=Europe/Rome:20190531T174500
DTSTAMP:20260419T221758
CREATED:20211105T171259Z
LAST-MODIFIED:20211122T104326Z
UID:5089-1559291400-1559324700@retedigital.org
SUMMARY:Seminario Internacional RETE\, NÁPOLES – 31 mayo 2019: Una Gobernanza Colaborativa para la relación Puerto-Ciudad
DESCRIPTION:SEMINARIO INTERNACIONAL RETE\nPARTICIPACIÓN GRATUITA  \nHabrá traducción simultánea para la sesión plenaria e internacional: \nITALIANO-ESPAÑOL\, ESPAÑOL-ITALIANO \nINSCRIPCIÓN ONLINE OBLIGATORIA\nINSCRIPCIONES CERRADAS \n  \n31 de Mayo 2019 \nNÁPOLES – Italia\nSala DIONE\, Stazione Marittima\, Porto di Napoli \n UNA GOBERNANZA COLABORATIVA\nPARA LA RELACIÓN PUERTO-CIUDAD\nPor iniciativa conjunta de \nRETE – Asociación para la Colaboración entre Puertos y Ciudades \n \ny \n“NODO AVANZADO de RETE de Napoles\, Salerno y Castellammare di Stabia” \nCoordinado por la Autoridad de Sistema Portuario del Mar Tirreno Central \n \n\n\n\nPartner Científicos y Coordinadores de las Mesas Operativas Tematicas del Nodo Avanzado de RETE\n\n\n \n \n– \n \n\nApoyo del Ayuntamiento de Nápoles\n \ny con el Patrocinio de \n\n\n \n  \nComité Científico del Seminario Internacional \n  \nPietro Spirito (Chair)\, Luisa Bordato\, Rinio Bruttomesso\, Vincent Esteban Chapapria\, Massimo Clemente\, Roberto Converti\, Fiorinda Corradino\, Marcello Di Caterina\, Assunta Di Vaio\, Antonio Errigo\, José Luis Estrada\, Eleonora Giovene di Girasole\, Guido Grimaldi\, Pedro Marin\, Umberto Masucci\, Francesco Messineo\, Alessandro Panaro \nComité Organizativo \nFiorinda Corradino\, Eleonora Giovene di Girasole\, Roberta Vitillo \n  \n  \n PROGRAMA\nPARTICIPACIÓN GRATUITA  \nHabrá traducción simultánea para la sesión plenaria e internacional: ITALIANO-ESPAÑOL\, ESPAÑOL-ITALIANO \nDESCARGA EL PROGRAMA en ES .pdf  \n \n!! programa actualizado a la fecha del 27 de mayo 2019 \nINSCRIPCIÓN ONLINE OBLIGATORIA\nCLICK HERE \n08:30 – 9.00   Recepción\n09:00 – 9.45   Saludos Institucionales\n  \nLuigi de Magistris \nAlcalde de Nápoles y de la Ciudad Metropolitana de Nápoles (Italia) \nPietro Spirito \nPresidente de la Autoridad Portuaria de Nápoles\, AdSP Mar Tirreno Centrale\, Nápoles (Italia) \nRinio Bruttomesso \nPresidente de RETE\, Venecia (Italia) \nUmberto Masucci \nPresidente\, The International Propeller Clubs\, Nápoles (Italia) \nRaffaella Papa \nPresidente\, Ass. Spazio alla Responsabilità\, Nápoles (Italia) \nLeonardo Di Mauro \nPresidente de Ordine degli Architetti\, Pianificatori\, Paesaggisti e Conservatori \nde Nápoles y Provincia (Italia) \n  \n  \n09.45 – 11.30 PRIMERA SESIÓN PLENARIA\n ”La gobernanza en la relación Puerto-Ciudad: una comparación internacional”\nModerador: Massimo Clemente \nDirigente di Ricerca\, CNR.IRISS\, Napoli (Italia) \n  \nPonentes:  \nRoberto Converti   \nProfessor Università UADE\, Buenos Aires (Argentina) \nCarola Hein \nProfessor TU-Delft University (The Netherlands) \nLuis Ascencio  \nConsultor di SELA – Sistema Económico Latinoamericano y del Caribe\, \nSantiago de Chile (Chile) \nRóger Humberto Ríos Duarte \nCoordenador de PROCIP\, Programa Integral de Investigación Para el Desarrollo  \nde las Ciudades Portuarias\, San José (Costa Rica) \nMaría Verónica Alarcón González \nArquitecta\, Universidad de Concepción\, \nConcepción (Chile) \nFrancesco Messineo \nSecretario General de la Autoridad Portuaria de Nápoles\, AdSP Mar Tirreno Centrale\, Nápoles (Italia) \n  \n  \n  \n11.30 – 13.30 SEGUNDA SESIÓN PLENARIA\n“Experiencias de gobernanza: los casos españoles” \n                                      \nModerador: José Luis Estrada Llaquet  \n    Ex Presidente RETE\, Estrada Consulting\, Barcelona ((España) \nPonentes: \nVanesa Cámara Boluda  \nJefa de Departamento de Ordenación de Espacios Portuarios\,\nDirección de Planificación y Desarrollo\,\nPuertos del Estado\, Organismo Público\, Gobierno de España\, Madrid (España) \nCádiz \nTeófila Martínez Saiz \nPresidente de la Autoridad Portuaria de la Bahía de Cádiz\, Cádiz (España)  \n  \nMálaga \nPedro Marin Cots \nAyuntamiento de Málaga\, Director OMAU\, Malaga (España) \nBarcelona \nJoan Colldecarrera \nDirector Gerència Urbanística Port Vell de l’Autoritat Portuària de Barcelona (España)  \nDavid Pino \nJefe de Planificación Territorial\, Gestión Técnica de Concesiones y Medio Ambiente  \nde l’Autoritat Portuària de Barcelona (España)  \n  \n  \n13.30 – 14.45 Light Lunch \n  \n  \n14.45 – 17.15  Cuatro Mesas Redondas en paralelo\n  \n Gobernanza colaborativa para la relación Puerto-Ciudad. \n\nLa experiencia del “Nodo Avanzado de RETE \nde Nápoles\, Salerno y Castellammare di Stabia”.\n                           \nSesiones con 4 Mesas Redondas en paralelo con Coordenadores de Nodo  \n+ 5 participantes invitados por cada coordinador de mesa \nPROGRAMAS MESAS DISPONIBLES A LA BREVEDAD \n      \n      \nMesa: Puerto-Ciudad / Waterfront-Comunidad \nModerador: Massimo Clemente\, Cnr-Iriss \n        \nMesa: Puerto-Ciudad / Flujos Pasajeros-Medición del valor urbano portuario \nModerador: Assunta Di Vaio\, Università degli Studi di Napoli Parthenope \n \nMesa: Puerto-Ciudad / Intermodalidad-Logistica-Transporte \nModerador: Marcello Di Caterina\, Alis \n \nMesa: Puerto-Ciudad / Mercancias-Economía Maritima \nModerador: Alessandro Panaro\, SRM \n \n17.15 – 17.45 Sesión de clausura\n\n  \nConclusiones  de:\nMassimo Clemente\, Cnr-Iriss \nAssunta Di Vaio\, Università Parthenope \nMarcello Di Caterina\, Alis \nAlessandro Panaro\, SRM \nPietro Spirito\, Presidente de la Autoridad Portuaria de Nápoles\, \n                 \n17.45 Clausura del seminario\n– \n21.00 Cena de Gala\nofrecida por la Autoridad Portuaria de Nápoles\, AdSP Mar Tirreno Centrale\, \nreservada a los Socios de RETE.\nLugar: Lega Navale\nLINK > INSCRIPCIÓN ONLINE OBLIGATORIA\nINSCRIPCIONES CERRADAS \n  \n* Tbc\, pendiente de confirmación
URL:https://retedigital.org/event/seminario-internacional-rete-napoles-31-mayo-2019-una-gobernanza-colaborativa-para-la-relacion-puerto-ciudad/
LOCATION:NAPOLI\, Stazione Marittima\, Porto di Napoli\,\, Napoli\, Italia
CATEGORIES:Eventos
ATTACH;FMTTYPE=image/jpeg:https://retedigital.org/wp-content/uploads/2021/11/RETE-Napoli-cover-Seminario-Internazionale-Nodo-Avanzato-31-maggio-2019-6501.jpg
ORGANIZER;CN="RETE %E2%80%93 Asociaci%C3%B3n para la Colaboraci%C3%B3n entre Puertos y Ciudades y AdSP Mar Tirreno Centrale (Autoridad Portuaria de Napol%C3%A9s)":MAILTO:info@retedigital.com
END:VEVENT
BEGIN:VEVENT
DTSTART;TZID=Europe/Rome:20190530T090000
DTEND;TZID=Europe/Rome:20190601T140000
DTSTAMP:20260419T221759
CREATED:20211102T155345Z
LAST-MODIFIED:20211122T104326Z
UID:4311-1559206800-1559397600@retedigital.org
SUMMARY:Encuentro de RETE – Mayo 2019
DESCRIPTION:The next RETE General Meeting will take place on 30th and 31th May 2019 in the italian port city of Naples\,with technical visit on 1th June 2019 in the italian port city of Salerno.\nThis event is organized in partnership with the Port of Naples and with the partner of Advanced Node of Naples. \n\n		\n\n		\n\n	\n		\n\n								\n						\n					\n								\n					oznor				\n					\n\n			\n\n\n	\n		\n\n								\n						\n					\n								\n					cof				\n					\n\n			\n\n\n	\n		\n\n								\n						\n					\n								\n					cof				\n					\n\n			\n\n\n	\n		\n\n								\n						\n					\n								\n					oznor				\n					\n\n			\n\n\n	\n		\n\n								\n						\n					\n								\n					cof				\n					\n\n			\n\n\n	\n		\n\n								\n						\n					\n								\n					mde				\n					\n\n			\n\n\n	\n		\n\n								\n						\n					\n								\n					cof				\n					\n\n			\n\n\n	\n		\n\n								\n						\n					\n								\n					cof				\n					\n\n			\n\n\n	\n		\n\n								\n						\n					\n								\n					oznor
URL:https://retedigital.org/event/encuentro-de-rete-mayo-2019/
CATEGORIES:Eventos
ATTACH;FMTTYPE=image/jpeg:https://retedigital.org/wp-content/uploads/2021/11/RETE-GENERAL-MEETING-may-june-2019-Naples-Salerno-ITALIA.jpg
END:VEVENT
BEGIN:VEVENT
DTSTART;TZID=Europe/Rome:20190215T080000
DTEND;TZID=Europe/Rome:20190215T140000
DTSTAMP:20260419T221759
CREATED:20211105T165726Z
LAST-MODIFIED:20211122T104326Z
UID:5076-1550217600-1550239200@retedigital.org
SUMMARY:Seminario Internacional “Barcelona Dos”
DESCRIPTION:El 15 de febrero 2019 tendrá lugar el seminario internacional “Barcelona Dos”\, reservado a los Socios y a los miembros del Comité Científico de RETE e invitados. La iniciativa\, que se celebrará en la Sala Barcelona del World Trade Center del Moll de Barcelana\, ha sido desarrolada con el apoyo de Port Vell – Port de Barcelona. \nDespués de los saludos de bienvenida\, por Joan Colldecarrera\, Port Vell el Port de Barcelona\, Vocal de la Junta de Gobierno de RETE\, y de la Introducción al Seminario por Rinio Bruttomesso\, Presidente de la Asociación\, los ponentes serán Emilio Brogueira y Manuel Guerra\, respectivamente Ex Presidente y Vicepresidente de RETE\, seguidos por la intervención de José Luis Estrada\, Ex Presidente de RETE y Coordinador General del Seminario\, que explicarán los objetivos de la jornada\, concebida como un momento de reflexión conjunta para reforzar el posicionamiento de RETE a nivel nacional e internacional con el fin de representar un punto de referencia e interlocutor en el ámbito de la colaboración puerto-ciudad. \nEl primero panel de discusión se confía a Luisa Bordato\, Secretaria General de RETE y Coordinadora Nodos Avanzados\, que presentará la propuesta original de RETE de los Nodos Avanzados\, con referencia específica al área mediterránea y a América Latina. El segundo momento de reflexión será desarrollado por Joan Alemany\, director de PORTUS y PORTUSplus\, quien destacará el papel estratégico de las dos revistas para el desarrollo de la Asociación. Vicent Esteban\, Director del Comité Científico de RETE\, hablará de las actividades de formación\, que consttituye uno de los objetivos estratégico de RETE\, y de la importancia de la trasnferencia de conocimiento en el sector de la integración y mejora de la relación puerto-ciudad. Roberto Converti\, Miembro del Comité Científico de RETE\, compartirá sus reflecciones para reforzar la presencia internacional de la Asociación. \nLa jornada finalizará con un debate general entre los participantes\, moderado por Luisa Salgueiro\, Vocal de la Junta de Gobierno de RETE\, discutiendo de nuevos perfiles y mejores instrumentos Para la RETE futura.
URL:https://retedigital.org/event/seminario-internacional-barcelona-dos/
LOCATION:Sala Barcelona\, World Trade Center\, Edificio Norte. Terraza 1ª. planta Moll de Barcelona\, Barcelona\, Spagna
CATEGORIES:Eventos
ATTACH;FMTTYPE=image/jpeg:https://retedigital.org/wp-content/uploads/2021/11/es_RETE-SEMINARIO-BCN2_Programa-15-FEB-2019-v1-1_Pagina_11.jpg
END:VEVENT
END:VCALENDAR